Workbook

Sheet 分项报价表
A1: 成交明细表
A2: 分项名称 | B2: 规格、型号 | C2: 单价（元） | D2: 数量 | E2: 合价（元）
A3: 男女更衣间
A4: 粘捕式灭蝇灯 | B4: =[1]高甸清单!I3&"、"&[1]高甸清单!J3 -> 粘捕式、DF-30BN | C4: 580 | D4: 1 | E4: =D4*C4 -> 580
A5: 四门储物柜 | B5: =[1]高甸清单!I4&"、"&[1]高甸清单!J4 -> 900×420×1800mm 、定制 | C5: 4750 | D5: 2 | E5: =D5*C5 -> 9500
A6: 挂墙洗手池 | B6: =[1]高甸清单!I5&"、"&[1]高甸清单!J5 -> 450×400×300+150mm、TX-A1 | C6: 1650 | D6: 2 | E6: =D6*C6 -> 3300
A7: 感应龙头 | B7: =[1]高甸清单!I6&"、"&[1]高甸清单!J6 -> 座台式、LQ-GY28 | C7: 880 | D7: 2 | E7: =D7*C7 -> 1760
A8: 主副食库
A9: 粘捕式灭蝇灯 | B9: =[1]高甸清单!I8&"、"&[1]高甸清单!J8 -> 粘捕式、DF-30BN | C9: 580 | D9: 1 | E9: =D9*C9 -> 580
A10: 米面架 | B10: =[1]高甸清单!I9&"、"&[1]高甸清单!J9 -> 1200×600×200mm、定制 | C10: 850 | D10: 2 | E10: =D10*C10 -> 1700
A11: 四层货架 | B11: =[1]高甸清单!I10&"、"&[1]高甸清单!J10 -> 1200×500×1800mm、TX-A1 | C11: 2600 | D11: 2 | E11: =D11*C11 -> 5200
A12: 四门冷藏雪柜 | B12: =[1]高甸清单!I11&"、"&[1]高甸清单!J11 -> 1200×760×1980mm、SBC-1.0L4F | C12: 9200 | D12: 1 | E12: =D12*C12 -> 9200
A13: 四门冷冻雪柜 | B13: =[1]高甸清单!I12&"、"&[1]高甸清单!J12 -> 1200×760×1980mm、SBC-1.0L4FD | C13: 9200 | D13: 1 | E13: =D13*C13 -> 9200
A14: 挡鼠板 | B14: =[1]高甸清单!I13&"、"&[1]高甸清单!J13 -> 1000×600mm、定制 | C14: 500 | D14: 1 | E14: =D14*C14 -> 500
A15: 粗加工间
A16: 粘捕式灭蝇灯 | B16: =[1]高甸清单!I15&"、"&[1]高甸清单!J15 -> 粘捕式、DF-30BN | C16: 580 | D16: 1 | E16: =D16*C16 -> 580
A17: 双星盆台 | B17: =[1]高甸清单!I16&"、"&[1]高甸清单!J16 -> 1500×760×800+150mm、TX-A2 | C17: 3500 | D17: 2 | E17: =D17*C17 -> 7000
A18: 双孔双温水龙头 | B18: =[1]高甸清单!I17&"、"&[1]高甸清单!J17 -> 双孔双温、XP-A802 | C18: 560 | D18: 4 | E18: =D18*C18 -> 2240
A19: 双层工作台 | B19: =[1]高甸清单!I18&"、"&[1]高甸清单!J18 -> 1800×760×800+150mm、FB-T2 | C19: 2850 | D19: 1 | E19: =D19*C19 -> 2850
A20: 主、副食加工间
A21: 粘捕式灭蝇灯 | B21: =[1]高甸清单!I20&"、"&[1]高甸清单!J20 -> 粘捕式、DF-30BN | C21: 580 | D21: 1 | E21: =D21*C21 -> 580
A22: 双星盆台 | B22: =[1]高甸清单!I21&"、"&[1]高甸清单!J21 -> 1200×760×800+150mm、TX-A2 | C22: 3160 | D22: 1 | E22: =D22*C22 -> 3160
A23: 双孔双温水龙头 | B23: =[1]高甸清单!I22&"、"&[1]高甸清单!J22 -> 双孔双温、XP-A802 | C23: 560 | D23: 2 | E23: =D23*C23 -> 1120
A24: 木面工作台 | B24: =[1]高甸清单!I23&"、"&[1]高甸清单!J23 -> 1800×760×800mm、FB-T2 | C24: 4220 | D24: 1 | E24: =D24*C24 -> 4220
A25: 电磁双门蒸柜 | B25: =[1]高甸清单!I24&"、"&[1]高甸清单!J24 -> 1150×900×1800mm、QX-ZF24-E125 | C25: 21500 | D25: 1 | E25: =D25*C25 -> 21500
A26: 不锈钢蒸箱屉盘 | B26: =[1]高甸清单!I25&"、"&[1]高甸清单!J25 -> 600×400mm、600×400mm | C26: 65 | D26: 20 | E26: =D26*C26 -> 1300
A27: 三层烤箱 | B27: =[1]高甸清单!I26&"、"&[1]高甸清单!J26 -> 1240×860×1760mm、MGE-3Y-6 | C27: 18150 | D27: 1 | E27: =D27*C27 -> 18150
A28: 不锈钢烤箱屉盘 | B28: =[1]高甸清单!I27&"、"&[1]高甸清单!J27 -> 600×400mm、600×400mm | C28: 65 | D28: 5 | E28: =D28*C28 -> 325
A29: 电饼铛 | B29: =[1]高甸清单!I28&"、"&[1]高甸清单!J28 -> 700×700×745mm、YCD-45型 | C29: 2800 | D29: 1 | E29: =D29*C29 -> 2800
A30: 带鲜风油网烟罩 | B30: =[1]高甸清单!I29&"、"&[1]高甸清单!J29 -> 2800×1750mm、定制 | C30: 3500 | D30: 9.63 | E30: =D30*C30 -> 33705
A31: 烟罩防潮灯 | B31: =[1]高甸清单!I30&"、"&[1]高甸清单!J30 -> L=1200mm、BC5406-2×L30 | C31: 1200 | D31: 3 | E31: =D31*C31 -> 3600
A32: 烟罩可开启式送风口 | B32: =[1]高甸清单!I31&"、"&[1]高甸清单!J31 -> 300×250mm，根据现场定制、定制 | C32: 1500 | D32: 5 | E32: =D32*C32 -> 7500
... A48: 灭火系统控制箱 | B48: =[1]高甸清单!I47&"、"&[1]高甸清单!J47 -> 不锈钢双瓶箱、与CMJS26-2-HF配套 | C48: 4000 | D48: 2 | E48: =D48*C48 -> 8000
A49: 洗消间排气系统
A50: 粘捕式灭蝇灯 | B50: =[1]高甸清单!I49&"、"&[1]高甸清单!J49 -> 粘捕式、DF-30BN | C50: 580 | D50: 1 | E50: =D50*C50 -> 580
A51: 三星盆台 | B51: =[1]高甸清单!I50&"、"&[1]高甸清单!J50 -> 1500×760×800+150mm、TX-A3 | C51: 2800 | D51: 1 | E51: =D51*C51 -> 2800
A52: 感应龙头 | B52: =[1]高甸清单!I51&"、"&[1]高甸清单!J51 -> 座台式、LQ-GY28 | C52: 880 | D52: 3 | E52: =D52*C52 -> 2640
A53: 紫外线消毒灯 | B53: =[1]高甸清单!I52&"、"&[1]高甸清单!J52 -> 1050×96×53mm、D-30 | C53: 500 | D53: 2 | E53: =D53*C53 -> 1000
A54: 双层工作台 | B54: =[1]高甸清单!I53&"、"&[1]高甸清单!J53 -> 1800×760×800+150mm、FB-T2 | C54: 2850 | D54: 1 | E54: =D54*C54 -> 2850
A55: 留样雪柜 | B55: =[1]高甸清单!I54&"、"&[1]高甸清单!J54 -> 700×760×1980mm、TG-0.5L2F | C55: 8795 | D55: 1 | E55: =D55*C55 -> 8795
...
