Workbook

Sheet 分项报价表
A1: 成交明细表
A2: 分项名称 | B2: 规格、型号 | C2: 单价（元） | D2: 数量 | E2: 合价（元）
A3: 男女更衣间
A4: 粘捕式灭蝇灯 | B4: =[1]高甸清单!I3&"、"&[1]高甸清单!J3 -> 粘捕式、DF-30BN | C4: 580 | D4: 1 | E4: =D4*C4 -> 580
A5: 四门储物柜 | B5: =[1]高甸清单!I4&"、"&[1]高甸清单!J4 -> 900×420×1800mm 、定制 | C5: 4750 | D5: 2 | E5: =D5*C5 -> 9500
A6: 挂墙洗手池 | B6: =[1]高甸清单!I5&"、"&[1]高甸清单!J5 -> 450×400×300+150mm、TX-A1 | C6: 1650 | D6: 2 | E6: =D6*C6 -> 3300
A7: 感应龙头 | B7: =[1]高甸清单!I6&"、"&[1]高甸清单!J6 -> 座台式、LQ-GY28 | C7: 880 | D7: 2 | E7: =D7*C7 -> 1760
A8: 主副食库
A9: 粘捕式灭蝇灯 | B9: =[1]高甸清单!I8&"、"&[1]高甸清单!J8 -> 粘捕式、DF-30BN | C9: 580 | D9: 1 | E9: =D9*C9 -> 580
A10: 米面架 | B10: =[1]高甸清单!I9&"、"&[1]高甸清单!J9 -> 1200×600×200mm、定制 | C10: 850 | D10: 2 | E10: =D10*C10 -> 1700
A11: 四层货架 | B11: =[1]高甸清单!I10&"、"&[1]高甸清单!J10 -> 1200×500×1800mm、TX-A1 | C11: 2600 | D11: 2 | E11: =D11*C11 -> 5200
A12: 四门冷藏雪柜 | B12: =[1]高甸清单!I11&"、"&[1]高甸清单!J11 -> 1200×760×1980mm、SBC-1.0L4F | C12: 9200 | D12: 1 | E12: =D12*C12 -> 9200
A13: 四门冷冻雪柜 | B13: =[1]高甸清单!I12&"、"&[1]高甸清单!J12 -> 1200×760×1980mm、SBC-1.0L4FD | C13: 9200 | D13: 1 | E13: =D13*C13 -> 9200
A14: 挡鼠板 | B14: =[1]高甸清单!I13&"、"&[1]高甸清单!J13 -> 1000×600mm、定制 | C14: 500 | D14: 1 | E14: =D14*C14 -> 500
A15: 粗加工间
A16: 粘捕式灭蝇灯 | B16: =[1]高甸清单!I15&"、"&[1]高甸清单!J15 -> 粘捕式、DF-30BN | C16: 580 | D16: 1 | E16: =D16*C16 -> 580
A17: 双星盆台 | B17: =[1]高甸清单!I16&"、"&[1]高甸清单!J16 -> 1500×760×800+150mm、TX-A2 | C17: 3500 | D17: 2 | E17: =D17*C17 -> 7000
A18: 双孔双温水龙头 | B18: =[1]高甸清单!I17&"、"&[1]高甸清单!J17 -> 双孔双温、XP-A802 | C18: 560 | D18: 4 | E18: =D18*C18 -> 2240
A19: 双层工作台 | B19: =[1]高甸清单!I18&"、"&[1]高甸清单!J18 -> 1800×760×800+150mm、FB-T2 | C19: 2850 | D19: 1 | E19: =D19*C19 -> 2850
A20: 主、副食加工间
A21: 粘捕式灭蝇灯 | B21: =[1]高甸清单!I20&"、"&[1]高甸清单!J20 -> 粘捕式、DF-30BN | C21: 580 | D21: 1 | E21: =D21*C21 -> 580
A22: 双星盆台 | B22: =[1]高甸清单!I21&"、"&[1]高甸清单!J21 -> 1200×760×800+150mm、TX-A2 | C22: 3160 | D22: 1 | E22: =D22*C22 -> 3160
A23: 双孔双温水龙头 | B23: =[1]高甸清单!I22&"、"&[1]高甸清单!J22 -> 双孔双温、XP-A802 | C23: 560 | D23: 2 | E23: =D23*C23 -> 1120
A24: 木面工作台 | B24: =[1]高甸清单!I23&"、"&[1]高甸清单!J23 -> 1800×760×800mm、FB-T2 | C24: 4220 | D24: 1 | E24: =D24*C24 -> 4220
A25: 电磁双门蒸柜 | B25: =[1]高甸清单!I24&"、"&[1]高甸清单!J24 -> 1150×900×1800mm、QX-ZF24-E125 | C25: 21500 | D25: 1 | E25: =D25*C25 -> 21500
A26: 不锈钢蒸箱屉盘 | B26: =[1]高甸清单!I25&"、"&[1]高甸清单!J25 -> 600×400mm、600×400mm | C26: 65 | D26: 20 | E26: =D26*C26 -> 1300
A27: 三层烤箱 | B27: =[1]高甸清单!I26&"、"&[1]高甸清单!J26 -> 1240×860×1760mm、MGE-3Y-6 | C27: 18150 | D27: 1 | E27: =D27*C27 -> 18150
A28: 不锈钢烤箱屉盘 | B28: =[1]高甸清单!I27&"、"&[1]高甸清单!J27 -> 600×400mm、600×400mm | C28: 65 | D28: 5 | E28: =D28*C28 -> 325
A29: 电饼铛 | B29: =[1]高甸清单!I28&"、"&[1]高甸清单!J28 -> 700×700×745mm、YCD-45型 | C29: 2800 | D29: 1 | E29: =D29*C29 -> 2800
A30: 带鲜风油网烟罩 | B30: =[1]高甸清单!I29&"、"&[1]高甸清单!J29 -> 2800×1750mm、定制 | C30: 3500 | D30: 9.63 | E30: =D30*C30 -> 33705
A31: 烟罩防潮灯 | B31: =[1]高甸清单!I30&"、"&[1]高甸清单!J30 -> L=1200mm、BC5406-2×L30 | C31: 1200 | D31: 3 | E31: =D31*C31 -> 3600
A32: 烟罩可开启式送风口 | B32: =[1]高甸清单!I31&"、"&[1]高甸清单!J31 -> 300×250mm，根据现场定制、定制 | C32: 1500 | D32: 5 | E32: =D32*C32 -> 7500
... A48: 灭火系统控制箱 | B48: =[1]高甸清单!I47&"、"&[1]高甸清单!J47 -> 不锈钢双瓶箱、与CMJS26-2-HF配套 | C48: 4000 | D48: 2 | E48: =D48*C48 -> 8000
A49: 洗消间排气系统
A50: 粘捕式灭蝇灯 | B50: =[1]高甸清单!I49&"、"&[1]高甸清单!J49 -> 粘捕式、DF-30BN | C50: 580 | D50: 1 | E50: =D50*C50 -> 580
A51: 三星盆台 | B51: =[1]高甸清单!I50&"、"&[1]高甸清单!J50 -> 1500×760×800+150mm、TX-A3 | C51: 2800 | D51: 1 | E51: =D51*C51 -> 2800
A52: 感应龙头 | B52: =[1]高甸清单!I51&"、"&[1]高甸清单!J51 -> 座台式、LQ-GY28 | C52: 880 | D52: 3 | E52: =D52*C52 -> 2640
A53: 紫外线消毒灯 | B53: =[1]高甸清单!I52&"、"&[1]高甸清单!J52 -> 1050×96×53mm、D-30 | C53: 500 | D53: 2 | E53: =D53*C53 -> 1000
A54: 双层工作台 | B54: =[1]高甸清单!I53&"、"&[1]高甸清单!J53 -> 1800×760×800+150mm、FB-T2 | C54: 2850 | D54: 1 | E54: =D54*C54 -> 2850
A55: 留样雪柜 | B55: =[1]高甸清单!I54&"、"&[1]高甸清单!J54 -> 700×760×1980mm、TG-0.5L2F | C55: 8795 | D55: 1 | E55: =D55*C55 -> 8795
A56: 双层送餐车 | B56: =[1]高甸清单!I55&"、"&[1]高甸清单!J55 -> 900×600×800mm、SCC | C56: 1700 | D56: 2 | E56: =D56*C56 -> 3400
A57: 洗消间
A58: 粘捕式灭蝇灯 | B58: =[1]高甸清单!I57&"、"&[1]高甸清单!J57 -> 粘捕式、DF-30BN | C58: 580 | D58: 1 | E58: =D58*C58 -> 580
A59: 双星入机台（带收残） | B59: =[1]高甸清单!I58&"、"&[1]高甸清单!J58 -> 2200×800×800+150mm、定制 | C59: 3600 | D59: 1 | E59: =D59*C59 -> 3600
A60: 双孔双温水龙头 | B60: =[1]高甸清单!I59&"、"&[1]高甸清单!J59 -> 双孔双温、XP-A802 | C60: 560 | D60: 2 | E60: =D60*C60 -> 1120
A61: 集气罩 | B61: =[1]高甸清单!I60&"、"&[1]高甸清单!J60 -> 2100×1000×550mm、定制 | C61: 2100 | D61: 2.1 | E61: =D61*C61 -> 4410
A62: 烟罩防潮灯 | B62: =[1]高甸清单!I61&"、"&[1]高甸清单!J61 -> L=1200mm、BC5406-2×L30 | C62: 1200 | D62: 1 | E62: =D62*C62 -> 1200
A63: 烟罩排风口及连接管 | B63: =[1]高甸清单!I62&"、"&[1]高甸清单!J62 -> 400×500mm、定制 | C63: 800 | D63: 2 | E63: =D63*C63 -> 1600
A64: 烟罩装饰板 | B64: =[1]高甸清单!I63&"、"&[1]高甸清单!J63 -> L=3100mm、定制 | C64: 700 | D64: 3.1 | E64: =D64*C64 -> 2170
A65: 通道式洗碗机带烘干连90°转角器 | B65: =[1]高甸清单!I64&"、"&[1]高甸清单!J64 -> 1968×830×1980mm、CSB1H180C+CST90T | C65: 135000 | D65: 1 | E65: =D65*C65 -> 135000
A66: 无动力滚轴工作台 | B66: =[1]高甸清单!I65&"、"&[1]高甸清单!J65 -> 1200×600×800mm、定制 | C66: 14500 | D66: 1 | E66: =D66*C66 -> 14500
A67: 热风循环双门消毒柜 | B67: =[1]高甸清单!I66&"、"&[1]高甸清单!J66 -> 1310×650×1980mm、RTD810LF-2 | C67: 7800 | D67: 2 | E67: =D67*C67 -> 15600
A68: 主副食加工间排油烟系统
A69: 加压排油烟风柜 | B69: =[1]高甸清单!I68&"、"&[1]高甸清单!J68 -> 25000m³/h、DYF-20" | C69: 25000 | D69: 1 | E69: =D69*C69 -> 25000
A70: 风柜减震器 | B70: =[1]高甸清单!I69&"、"&[1]高甸清单!J69 -> 与风柜配套、ZD-10 | C70: 2200 | D70: 1 | E70: =D70*C70 -> 2200
A71: 风柜底座 | B71: =[1]高甸清单!I70&"、"&[1]高甸清单!J70 -> 与风柜配套、定制 | C71: 2500 | D71: 1 | E71: =D71*C71 -> 2500
A72: 防火阀 | B72: =[1]高甸清单!I71&"、"&[1]高甸清单!J71 -> 与管道配套、FHF WSDc-1000×630-E3.0/150℃-F | C72: 1500 | D72: 1 | E72: =D72*C72 -> 1500
A73: 软连接 | B73: =[1]高甸清单!I72&"、"&[1]高甸清单!J72 -> 与风柜配套、定制 | C73: 660 | D73: 2 | E73: =D73*C73 -> 1320
A74: 进出口消音管 | B74: =[1]高甸清单!I73&"、"&[1]高甸清单!J73 -> 与管道配套、定制 | C74: 1620 | D74: 2 | E74: =D74*C74 -> 3240
A75: 通风管道 | B75: =[1]高甸清单!I74&"、"&[1]高甸清单!J74 -> 1.2mm厚镀锌板、定制 | C75: 280 | D75: 180 | E75: =D75*C75 -> 50400
A76: 法兰 | B76: =[1]高甸清单!I75&"、"&[1]高甸清单!J75 -> 与管道配套、定制 | C76: 160 | D76: 45 | E76: =D76*C76 -> 7200
A77: 高效净化器装置 | B77: =[1]高甸清单!I76&"、"&[1]高甸清单!J76 -> 25000m³/h、LJPD-DC1-24C | C77: 25000 | D77: 1 | E77: =D77*C77 -> 25000
A78: 净化器底座 | B78: =[1]高甸清单!I77&"、"&[1]高甸清单!J77 -> 与净化器配套、定制 | C78: 2500 | D78: 1 | E78: =D78*C78 -> 2500
A79: 风机出口不锈钢防护网 | B79: =[1]高甸清单!I78&"、"&[1]高甸清单!J78 -> 与管道配套、定制 | C79: 1100 | D79: 1 | E79: =D79*C79 -> 1100
A80: 预留环保检测口 | B80: =[1]高甸清单!I79&"、"&[1]高甸清单!J79 -> 根据现场、定制 | C80: 1600 | D80: 1 | E80: =D80*C80 -> 1600
... A85: 风机控制线及线管 | B85: =[1]高甸清单!I84&"、"&[1]高甸清单!J84 -> 与系统匹配、60227 IEC 01(BV)450/750V 1.5-240 | C85: 260 | D85: 90 | E85: =D85*C85 -> 23400
A86: 主副食加工间送风系统
A87: 新风机组 | B87: =[1]高甸清单!I86&"、"&[1]高甸清单!J86 -> 20000m³/h、DYF-20" | C87: 20000 | D87: 1 | E87: =D87*C87 -> 20000
A88: 机组减震器 | B88: =[1]高甸清单!I87&"、"&[1]高甸清单!J87 -> 与机组配套、ZD-10 | C88: 2200 | D88: 1 | E88: =D88*C88 -> 2200
A89: 机组底座 | B89: =[1]高甸清单!I88&"、"&[1]高甸清单!J88 -> 与机组配套、定制 | C89: 2500 | D89: 1 | E89: =D89*C89 -> 2500
A90: 防火阀 | B90: =[1]高甸清单!I89&"、"&[1]高甸清单!J89 -> 与管道匹配、FHF WSDc-1000×500-E3.0/150℃-F | C90: 1200 | D90: 1 | E90: =D90*C90 -> 1200
A91: 软连接 | B91: =[1]高甸清单!I90&"、"&[1]高甸清单!J90 -> 与机组配套、定制 | C91: 660 | D91: 2 | E91: =D91*C91 -> 1320
A92: 通风管道 | B92: =[1]高甸清单!I91&"、"&[1]高甸清单!J91 -> 1.2mm厚镀锌板、定制 | C92: 280 | D92: 150 | E92: =D92*C92 -> 42000
A93: 法兰 | B93: =[1]高甸清单!I92&"、"&[1]高甸清单!J92 -> 与管道匹配、定制 | C93: 160 | D93: 35 | E93: =D93*C93 -> 5600
A94: 送风百叶及连接管 | B94: =[1]高甸清单!I93&"、"&[1]高甸清单!J93 -> 600×600mm、定制 | C94: 800 | D94: 8 | E94: =D94*C94 -> 6400
A95: 进风口不锈钢防雨百叶 | B95: =[1]高甸清单!I94&"、"&[1]高甸清单!J94 -> 与管道配套、定制 | C95: 900 | D95: 1 | E95: =D95*C95 -> 900
A96: 风机专用控制箱 | B96: =[1]高甸清单!I95&"、"&[1]高甸清单!J95 -> 与系统匹配、XXRMBZ | C96: 4500 | D96: 1 | E96: =D96*C96 -> 4500
A97: 风机控制线及线管 | B97: =[1]高甸清单!I96&"、"&[1]高甸清单!J96 -> 与系统匹配、60227 IEC 01(BV)450/750V 1.5-240 | C97: 260 | D97: 90 | E97: =D97*C97 -> 23400
A98: 洗消间排气系统
A99: 排气机组 | B99: =[1]高甸清单!I98&"、"&[1]高甸清单!J98 -> 4000m³/h、DYF-10" | C99: 4000 | D99: 1 | E99: =D99*C99 -> 4000
A100: 风机减震器 | B100: =[1]高甸清单!I99&"、"&[1]高甸清单!J99 -> 与机组配套、ZD-10 | C100: 2200 | D100: 1 | E100: =D100*C100 -> 2200
A101: 机组底座 | B101: =[1]高甸清单!I100&"、"&[1]高甸清单!J100 -> 与机组配套、定制 | C101: 2500 | D101: 1 | E101: =D101*C101 -> 2500
A102: 软连接 | B102: =[1]高甸清单!I101&"、"&[1]高甸清单!J101 -> 与机组配套、定制 | C102: 660 | D102: 2 | E102: =D102*C102 -> 1320
A103: 通风管道 | B103: =[1]高甸清单!I102&"、"&[1]高甸清单!J102 -> 根据现场、定制 | C103: 280 | D103: 60 | E103: =D103*C103 -> 16800
A104: 法兰 | B104: =[1]高甸清单!I103&"、"&[1]高甸清单!J103 -> 与管道匹配、定制 | C104: 160 | D104: 25 | E104: =D104*C104 -> 4000
A105: 风机出口不锈钢防护网 | B105: =[1]高甸清单!I104&"、"&[1]高甸清单!J104 -> 与管道匹配、定制 | C105: 1100 | D105: 1 | E105: =D105*C105 -> 1100
A106: 风机专用控制箱 | B106: =[1]高甸清单!I105&"、"&[1]高甸清单!J105 -> 与系统匹配、XXRMBZ | C106: 4500 | D106: 1 | E106: =D106*C106 -> 4500
A107: 风机控制线及线管 | B107: =[1]高甸清单!I106&"、"&[1]高甸清单!J106 -> 与系统匹配、60227 IEC 01(BV)450/750V 1.5-240 | C107: 260 | D107: 60 | E107: =D107*C107 -> 15600
A108: 餐具厨杂
A109: 四格餐盘 | B109: =[1]高甸清单!I108&"、"&[1]高甸清单!J108 -> 36×27×2cm、36×27×2cm | C109: 45 | D109: 20 | E109: =D109*C109 -> 900
A110: 汤碗 | B110: =[1]高甸清单!I109&"、"&[1]高甸清单!J109 -> 12cm、12cm | C110: 12 | D110: 20 | E110: =D110*C110 -> 240
A111: 面碗 | B111: =[1]高甸清单!I110&"、"&[1]高甸清单!J110 -> 18cm、18cm | C111: 30 | D111: 20 | E111: =D111*C111 -> 600
A112: 勺子 | B112: =[1]高甸清单!I111&"、"&[1]高甸清单!J111 -> 15cm、15cm | C112: 4.5 | D112: 30 | E112: =D112*C112 -> 135
A113: 筷子 | B113: =[1]高甸清单!I112&"、"&[1]高甸清单!J112 -> 27cm、27cm | C113: 4.5 | D113: 30 | E113: =D113*C113 -> 135
A114: 儿童碗 | B114: =[1]高甸清单!I113&"、"&[1]高甸清单!J113 -> 11.5cm、11.5cm | C114: 18 | D114: 150 | E114: =D114*C114 -> 2700
A115: 儿童勺 | B115: =[1]高甸清单!I114&"、"&[1]高甸清单!J114 -> 15cm、15cm | C115: 9 | D115: 150 | E115: =D115*C115 -> 1350
A116: 木筷子 | B116: =[1]高甸清单!I115&"、"&[1]高甸清单!J115 -> 16cm、16cm | C116: 4.5 | D116: 150 | E116: =D116*C116 -> 675
A117: 儿童餐盘 | B117: =[1]高甸清单!I116&"、"&[1]高甸清单!J116 -> 20×20cm、20×20cm | C117: 36 | D117: 150 | E117: =D117*C117 -> 5400
A118: 儿童水果盘 | B118: =[1]高甸清单!I117&"、"&[1]高甸清单!J117 -> 14cm、14cm | C118: 19.5 | D118: 150 | E118: =D118*C118 -> 2925
A119: 不锈钢桶 | B119: =[1]高甸清单!I118&"、"&[1]高甸清单!J118 -> 25cm、25cm | C119: 360 | D119: 3 | E119: =D119*C119 -> 1080
...
